BEGIN:VCALENDAR
VERSION:2.0
PRODID:-//the Hold My Beer Band - ECPv6.15.20//NONSGML v1.0//EN
CALSCALE:GREGORIAN
METHOD:PUBLISH
X-ORIGINAL-URL:https://holdmybeerband.com
X-WR-CALDESC:Events for the Hold My Beer Band
REFRESH-INTERVAL;VALUE=DURATION:PT1H
X-Robots-Tag:noindex
X-PUBLISHED-TTL:PT1H
BEGIN:VTIMEZONE
TZID:America/Phoenix
BEGIN:STANDARD
TZOFFSETFROM:-0700
TZOFFSETTO:-0700
TZNAME:MST
DTSTART:20240101T000000
END:STANDARD
END:VTIMEZONE
BEGIN:VEVENT
DTSTART;TZID=America/Phoenix:20250403T160000
DTEND;TZID=America/Phoenix:20250403T190000
DTSTAMP:20260419T232150
CREATED:20250112T222619Z
LAST-MODIFIED:20250317T165816Z
UID:826-1743696000-1743706800@holdmybeerband.com
SUMMARY:Ranch House Grill & Brewery
DESCRIPTION:A few times a year we play a “Dance” party for a group of folks at Saddlebrooke at their event venue. In the same building you can find the Ranch House grill where you can find great food\, drink and sports. We were told that they have some live music under the gazebo at the event pavilion. We’re excited to play this property outdoors in this amazingly beautiful setting in the desert. What? You have never visited the Ranch House Grill & Brewery at Saddlebrook? It is open to the public so if you’re in the area\, check their website to view their days and hours of business.
URL:https://holdmybeerband.com/event/saddlebrooke-ranch-house-grill-brewery/
LOCATION:Ranch House Grill & Brewery\, 31143 S Amenity\, Oracle\, Arizona\, 85623
CATEGORIES:Ranch House Grill & Brewery,Resort Gigs
ATTACH;FMTTYPE=image/jpeg:https://holdmybeerband.com/wp-content/uploads/2025/01/ranch-house-brewery-logo.jpeg
END:VEVENT
END:VCALENDAR