BEGIN:VCALENDAR
VERSION:2.0
PRODID:-//the Hold My Beer Band - ECPv6.15.20//NONSGML v1.0//EN
CALSCALE:GREGORIAN
METHOD:PUBLISH
X-WR-CALNAME:the Hold My Beer Band
X-ORIGINAL-URL:https://holdmybeerband.com
X-WR-CALDESC:Events for the Hold My Beer Band
REFRESH-INTERVAL;VALUE=DURATION:PT1H
X-Robots-Tag:noindex
X-PUBLISHED-TTL:PT1H
BEGIN:VTIMEZONE
TZID:America/Phoenix
BEGIN:STANDARD
TZOFFSETFROM:-0700
TZOFFSETTO:-0700
TZNAME:MST
DTSTART:20220101T000000
END:STANDARD
END:VTIMEZONE
BEGIN:VEVENT
DTSTART;TZID=America/Phoenix:20230128T180000
DTEND;TZID=America/Phoenix:20230128T200000
DTSTAMP:20260420T232455
CREATED:20230108T210756Z
LAST-MODIFIED:20230108T210804Z
UID:200-1674928800-1674936000@holdmybeerband.com
SUMMARY:Saturday\, Jan. 28 at Ore House Hilltop Tavern\, Oracle AZ
DESCRIPTION:We pleased to be asked back to the Ore House in Oracle!  We will be appearing there on the last Saturday in January\, on the 28th.  We recommend you get there early\, get a prime table and place your order for a great cocktail\, beer or soda and get ‘yer order in for some grub.  They have a great menu and if they had a website\, we could point you in that direction.  Heck\, maybe I’ll get a copy of their menu and put it online for ’em. \n\n\n\nThe last time we played at this comfortable and family friendly spot\, it was the day before New Year’s Eve.  So\, we figured it may be kind of quiet since it’s so close to one of the biggest “Amateur Nights” of the year!  We were wrong!  The entire night was filled with smiling folks\, sometimes even dancing on the sparse floor.  There were some out of towners in the crowd\, arriving as we were setting up for the evening.  They stuck around almost to the end!   \n\n\n\nHold My Beer Band Poster for Ore House Hilltop Tavern in Oracle Az\n\n\n\nThere’s no reason to believe that Saturday\, January 28th at the Ore House Hilltop Tavern in Oracle Az won’t be busy as heck!  Arrive early\, tell your friends and tip the bartender’s\, wait staff and cook heavily.  And\, while you’re at it . . . don’t forget to tip the band! \n\n\n\nWe hope to see you there!
URL:https://holdmybeerband.com/event/saturday-jan-28-at-ore-house-hilltop-tavern-oracle-az/
LOCATION:Ore House Hilltop Tavern\, 1200 N Jefferson Dr.\, Oracle\, Arizona\, 85623\, United States
CATEGORIES:Bars & Lounges,Ore House Hilltop Tavern, Oracle AZ,Saturday Evening Music
ATTACH;FMTTYPE=image/jpeg:https://holdmybeerband.com/wp-content/uploads/2023/01/DSC_1736-1_BW-Sq.jpg
END:VEVENT
END:VCALENDAR