BEGIN:VCALENDAR
VERSION:2.0
PRODID:-//the Hold My Beer Band - ECPv6.15.20//NONSGML v1.0//EN
CALSCALE:GREGORIAN
METHOD:PUBLISH
X-ORIGINAL-URL:https://holdmybeerband.com
X-WR-CALDESC:Events for the Hold My Beer Band
REFRESH-INTERVAL;VALUE=DURATION:PT1H
X-Robots-Tag:noindex
X-PUBLISHED-TTL:PT1H
BEGIN:VTIMEZONE
TZID:America/Phoenix
BEGIN:STANDARD
TZOFFSETFROM:-0700
TZOFFSETTO:-0700
TZNAME:MST
DTSTART:20230101T000000
END:STANDARD
END:VTIMEZONE
BEGIN:VEVENT
DTSTART;TZID=America/Phoenix:20240809T180000
DTEND;TZID=America/Phoenix:20240809T220000
DTSTAMP:20260419T140601
CREATED:20240710T210659Z
LAST-MODIFIED:20240731T164550Z
UID:628-1723226400-1723240800@holdmybeerband.com
SUMMARY:The Hideaway - 6 Miles N. of Globe on Hwy 188
DESCRIPTION:We were invited back to the Hideaway and we’re beyond excited!  One of our super-fans moved to Globe from Oracle Az a few months ago and suggested to the owner of the Hideaway to check out the Hold my Beer Band.  If you’re in the area of Globe or Roosevelt Lake\, drop on by and give us a listen.  Enjoy an appetizer or meal with your favorite drink.  We start early at the Hideaway\, because we’re OLD!  But seriously folks\, we will be playing from 6 – 10 pm on Friday\, August 9th.  Here’s some directions from Globe;Head North on Hwy 188 and stay in the right lane for about 5 miles or so.  That right lane will become a “Turn Only” lane.  Turn right as the lane ends and drive approximately a mile or 2 where you will see the Hideaway\, hidden away on your right.  We hope to see you there!
URL:https://holdmybeerband.com/event/the-hideaway-6-miles-n-of-globe-on-hwy-188/
LOCATION:The Hideaway Bar & Grill LLC\, 1313 N Wheatfields Rd.\, Globe\, AZ\, 85501\, United States
CATEGORIES:Bars & Lounges,the Hideaway in Globe Az
ATTACH;FMTTYPE=image/jpeg:https://holdmybeerband.com/wp-content/uploads/2024/05/the-Hideaway-e1716391070993.jpg
END:VEVENT
END:VCALENDAR