BEGIN:VCALENDAR
VERSION:2.0
PRODID:-//the Hold My Beer Band - ECPv6.15.20//NONSGML v1.0//EN
CALSCALE:GREGORIAN
METHOD:PUBLISH
X-WR-CALNAME:the Hold My Beer Band
X-ORIGINAL-URL:https://holdmybeerband.com
X-WR-CALDESC:Events for the Hold My Beer Band
REFRESH-INTERVAL;VALUE=DURATION:PT1H
X-Robots-Tag:noindex
X-PUBLISHED-TTL:PT1H
BEGIN:VTIMEZONE
TZID:America/Phoenix
BEGIN:STANDARD
TZOFFSETFROM:-0700
TZOFFSETTO:-0700
TZNAME:MST
DTSTART:20230101T000000
END:STANDARD
END:VTIMEZONE
BEGIN:VEVENT
DTSTART;TZID=America/Phoenix:20240705T173000
DTEND;TZID=America/Phoenix:20240705T220000
DTSTAMP:20260419T103906
CREATED:20240630T170236Z
LAST-MODIFIED:20240630T170244Z
UID:620-1720200600-1720216800@holdmybeerband.com
SUMMARY:El Rancho Robles Food Truck Friday
DESCRIPTION:It’s Food Truck Friday at El Rancho Robles in Oracle Az!   \n\n\n\nIf you have never visited this historic slice of heaven\, you should make plans to visit this 4th of July holiday weekend!  El Rancho Robles is a quaint Ranch\, tucked under century old oaks making this the perfect weekend picnic spot. Plenty of outdoor seating\, picnic tables\, water fountains and fire pits makes our place great for social distancing. Catch majestic sunsets and a glimpse of our resident wildlife. \n\n\n\n\nFrom the El Rancho Robles Facebook Event page: Join us for another fun night of great food\, drinks & live music—featuring DC Jumbie Latin & Caribbean Soul Food\, Kettle Corn Bros and Hold My Beer Band—under the shade of the majestic oaks at El Rancho Robles Guest Ranch & Hotel in Oracle!  \n\n\n\nLocal legends\, Hold My Beer Band\, will be rocking the party & bringing the energy with their awesome covers of your favorite tunes. Bring your dancing shoes!!We’re excited to welcome DC Jumbie Latin & Caribbean Soul Food. They’ll be serving delicious chicken\, pork & vegetarian sandwiches\, plates\, tacos and even more tropical dishes. They even offer gluten free options! \n\n\n\nBe sure to grab a bag of irresistible freshly popped\, sweet & savory\, gluten free kettle corn from Kettle Corn Bros!  \n\n\n\nEnjoy a cold drink from Blue Bar. We offer a nice selection of wine\, beer\, hard seltzers\, ranch waters\, & non-alcoholic beverage. Budweiser is on special for $3.75 (until we run out).  \n\n\n\n\n\n\nThe menu items that will be available for consumption looks quite tasty!
URL:https://holdmybeerband.com/event/el-rancho-robles-food-truck-friday/
LOCATION:El Rancho Robles\, 1170 N Rancho Robles Rd\, Oracle\, Arizona\, 85623\, United States
CATEGORIES:El Rancho Robles
ATTACH;FMTTYPE=image/jpeg:https://holdmybeerband.com/wp-content/uploads/2024/06/2024-07-05_El-Rancho-Robles_2024.jpg
END:VEVENT
END:VCALENDAR