BEGIN:VCALENDAR
VERSION:2.0
PRODID:-//the Hold My Beer Band - ECPv6.15.20//NONSGML v1.0//EN
CALSCALE:GREGORIAN
METHOD:PUBLISH
X-ORIGINAL-URL:https://holdmybeerband.com
X-WR-CALDESC:Events for the Hold My Beer Band
REFRESH-INTERVAL;VALUE=DURATION:PT1H
X-Robots-Tag:noindex
X-PUBLISHED-TTL:PT1H
BEGIN:VTIMEZONE
TZID:America/Phoenix
BEGIN:STANDARD
TZOFFSETFROM:-0700
TZOFFSETTO:-0700
TZNAME:MST
DTSTART:20240101T000000
END:STANDARD
END:VTIMEZONE
BEGIN:VEVENT
DTSTART;TZID=America/Phoenix:20250621T190000
DTEND;TZID=America/Phoenix:20250621T220000
DTSTAMP:20260419T205306
CREATED:20250312T183547Z
LAST-MODIFIED:20250319T150311Z
UID:942-1750532400-1750543200@holdmybeerband.com
SUMMARY:80th Birthday Bash!
DESCRIPTION:We’ve been asked by a fan to play at her 80th birthday party in San Manuel.  We’re in!  We Love to play parties that bring together family and friends in a celebration\, whether it’s a birthday or just because.  Sometimes\, there’s that special birthday number\, like 80\, that really does set off a celebration of life and longevity!  Heck\, our drummer Teddy is 81 years old\, (young).
URL:https://holdmybeerband.com/event/80th-birthday-bash/
CATEGORIES:Birthday Party,Special Event
ATTACH;FMTTYPE=image/png:https://holdmybeerband.com/wp-content/uploads/2022/10/jug-band.png
END:VEVENT
END:VCALENDAR