BEGIN:VCALENDAR
VERSION:2.0
PRODID:-//the Hold My Beer Band - ECPv6.15.20//NONSGML v1.0//EN
CALSCALE:GREGORIAN
METHOD:PUBLISH
X-ORIGINAL-URL:https://holdmybeerband.com
X-WR-CALDESC:Events for the Hold My Beer Band
REFRESH-INTERVAL;VALUE=DURATION:PT1H
X-Robots-Tag:noindex
X-PUBLISHED-TTL:PT1H
BEGIN:VTIMEZONE
TZID:America/Phoenix
BEGIN:STANDARD
TZOFFSETFROM:-0700
TZOFFSETTO:-0700
TZNAME:MST
DTSTART:20240101T000000
END:STANDARD
END:VTIMEZONE
BEGIN:VEVENT
DTSTART;TZID=America/Phoenix:20250918T163000
DTEND;TZID=America/Phoenix:20250918T193000
DTSTAMP:20260419T131430
CREATED:20250519T215111Z
LAST-MODIFIED:20250715T221729Z
UID:1025-1758213000-1758223800@holdmybeerband.com
SUMMARY:Dove Mountain - Private Dance Party
DESCRIPTION:There’s nothing like an afternoon dance party at Dove Mountain in Marana.  We always enjoy being asked to play some fine country and western music for folks who love to dance! \n 
URL:https://holdmybeerband.com/event/dove-mountain-private-dance-party/
LOCATION:The Saguaro Center at Dove Mountain\, Marana Az\, 14085 N. Del Webb Trail\, Marana\, AZ\, 85658\, United States
CATEGORIES:Dove Mountain,Private Party
ATTACH;FMTTYPE=image/jpeg:https://holdmybeerband.com/wp-content/uploads/2024/12/PM_Horseback_02.jpg
END:VEVENT
END:VCALENDAR