BEGIN:VCALENDAR
VERSION:2.0
PRODID:-//the Hold My Beer Band - ECPv6.15.20//NONSGML v1.0//EN
CALSCALE:GREGORIAN
METHOD:PUBLISH
X-ORIGINAL-URL:https://holdmybeerband.com
X-WR-CALDESC:Events for the Hold My Beer Band
REFRESH-INTERVAL;VALUE=DURATION:PT1H
X-Robots-Tag:noindex
X-PUBLISHED-TTL:PT1H
BEGIN:VTIMEZONE
TZID:America/Phoenix
BEGIN:STANDARD
TZOFFSETFROM:-0700
TZOFFSETTO:-0700
TZNAME:MST
DTSTART:20230101T000000
END:STANDARD
END:VTIMEZONE
BEGIN:VEVENT
DTSTART;TZID=America/Phoenix:20240120T180000
DTEND;TZID=America/Phoenix:20240120T210000
DTSTAMP:20260420T210338
CREATED:20240116T150644Z
LAST-MODIFIED:20240116T150649Z
UID:507-1705773600-1705784400@holdmybeerband.com
SUMMARY:Country Western Night at Dove Mountain\, Private Party
DESCRIPTION:We always appreciate a great referral\, and this one is a gem!  Thanks to the “Root 77” band for wonderful sharing of contact information.  With the Hold my Beer Band having over a century of making music experiences\, we’ve all experienced the bands that would never share contact information at a venue\, let alone this prime Dove Mountain property in Marana.  It’s Country Western night with the band playing before and after some country line dancing lessons.  We’re looking forward to meeting some new folks and learning some line dancing moves while we’re at it!
URL:https://holdmybeerband.com/event/country-western-night-at-dove-mountain-private-party/
LOCATION:The Saguaro Center at Dove Mountain\, Marana Az\, 14085 N. Del Webb Trail\, Marana\, AZ\, 85658\, United States
CATEGORIES:Private Party,Resort Gigs,Saturday Evening Music
ATTACH;FMTTYPE=image/png:https://holdmybeerband.com/wp-content/uploads/2022/11/Senior-Dancers.png
END:VEVENT
END:VCALENDAR