BEGIN:VCALENDAR
VERSION:2.0
PRODID:-//the Hold My Beer Band - ECPv6.15.20//NONSGML v1.0//EN
CALSCALE:GREGORIAN
METHOD:PUBLISH
X-WR-CALNAME:the Hold My Beer Band
X-ORIGINAL-URL:https://holdmybeerband.com
X-WR-CALDESC:Events for the Hold My Beer Band
REFRESH-INTERVAL;VALUE=DURATION:PT1H
X-Robots-Tag:noindex
X-PUBLISHED-TTL:PT1H
BEGIN:VTIMEZONE
TZID:America/Phoenix
BEGIN:STANDARD
TZOFFSETFROM:-0700
TZOFFSETTO:-0700
TZNAME:MST
DTSTART:20220101T000000
END:STANDARD
END:VTIMEZONE
BEGIN:VEVENT
DTSTART;TZID=America/Phoenix:20260418T130000
DTEND;TZID=America/Phoenix:20260418T160000
DTSTAMP:20260419T160317
CREATED:20251111T214350Z
LAST-MODIFIED:20260404T222046Z
UID:1218-1776517200-1776528000@holdmybeerband.com
SUMMARY:Firehouse Saloon - Kearny Pioneer Days
DESCRIPTION:You can bet there will be a lot going on during Pioneer Days in Kearny!  From the CopperArea.com website: \nAn artistic map of Kearny\n“Kearny’s 63rd annual Pioneer Days is quickly approaching! It is time to return home for “Rustic Roots and Cowboy Boots.”  The Copper Basin Chamber of Commerce and their partners are bringing back all of your favorite events. \nThe Chamber of Commerce began the festivities this year with a competition. They asked members of the community to submit their ideas for this year’s theme. The winning theme “Rustic Roots and Cowboy Boots” was submitted by Kearny resident Melissa Day. When asked about how she came up with the theme\, Melissa said\, “Being local\, I knew that our Pioneer Days is about our cowboy roots\, even though the holiday is celebrated in other states as a different tradition. Ours is more of a cowboy theme versus Pioneer\, so I thought of the play on words that way. Rustic Roots & Cowboy Boots. Couldn’t be truer for Kearny\, and it’s catchy!” \nWe agree that it’s the perfect theme to represent the Copper Basin Area. \nOther original events such as the Queens Competition\, Roping Tournament\, Softball Tournament and Parade are scheduled this year! A carnival\, provided by Brown’s Entertainment\, will be hosted as well over the four-day event\, in traditional fashion.” \nWe will be playing early on Saturday\, April 18th\, beginning at 1 pm.  There will be a second band\, Highway 260 beginning at 7 pm to keep the music coming at you! \nThere should be more information regarding this event\, soon on the Kearny Chamber of Commerce website.
URL:https://holdmybeerband.com/event/firehouse-saloon-kearny-pioneer-days/
LOCATION:Firehouse Saloon\, Kearny Az\, 1108 S. Emory Dr.\, Kearny\, AZ\, 85137\, United States
CATEGORIES:Bars & Lounges,Firehouse Saloon, Kearny Az,Kearny Pioneer Days
ATTACH;FMTTYPE=image/jpeg:https://holdmybeerband.com/wp-content/uploads/2025/11/2026-04-18_FirehouseSaloon_Gemini_Generated_Image_n09ip8n09ip8n09i.jpg
END:VEVENT
BEGIN:VEVENT
DTSTART;TZID=America/Phoenix:20241207T113000
DTEND;TZID=America/Phoenix:20241207T133000
DTSTAMP:20260419T160317
CREATED:20240813T235414Z
LAST-MODIFIED:20241203T163610Z
UID:670-1733571000-1733578200@holdmybeerband.com
SUMMARY:Fundraising Auction for Underprivileged Kids
DESCRIPTION:This is an annual auction event held at The Player’s Pub in Catalina every December in conjunction with the Golder Ranch Fire Department and the Catalina Crusaders.  There will be many auction items to look over as we play some tunes and get you ready to spend some money in order to purchase toys for the kids.  You are encouraged to drop by The Player’s Pub in Catalina and drop some dollars in their giant donation jug.  Or\, if you’ve got something to donate to the auction for the cause\, that is welcomed as well!
URL:https://holdmybeerband.com/event/fundraising-auction-for-underprivileged-kids/
LOCATION:Players Pub and Sports Bar\, 16024 N Oracle Rd\, Catalina\, Arizona\, 85739\, United States
CATEGORIES:Bars & Lounges,Community Event,Players Pub
ATTACH;FMTTYPE=image/jpeg:https://holdmybeerband.com/wp-content/uploads/2023/07/PlayersPub-Logo.jpg
END:VEVENT
BEGIN:VEVENT
DTSTART;TZID=America/Phoenix:20241005T200000
DTEND;TZID=America/Phoenix:20241005T230000
DTSTAMP:20260419T160317
CREATED:20240910T183319Z
LAST-MODIFIED:20240910T183324Z
UID:680-1728158400-1728169200@holdmybeerband.com
SUMMARY:Fiesta at St. Helen Parish in Oracle Az
DESCRIPTION:It’s a Fiesta Celebration at Saint Helen Parish in Oracle Az.  We are looking forward to providing some music.
URL:https://holdmybeerband.com/event/fiesta-at-st-helen-parish-in-oracle-az/
LOCATION:St. Helen Roman Catholic Parish\, 66 E Maplewood St.\, Oracle\, Arizona\, 85623\, United States
CATEGORIES:Community Event,Fiesta!
ATTACH;FMTTYPE=image/jpeg:https://holdmybeerband.com/wp-content/uploads/2024/09/Fiesta2024_st-helen-parish-oracle_featured.jpg
END:VEVENT
BEGIN:VEVENT
DTSTART;TZID=America/Phoenix:20240511T173000
DTEND;TZID=America/Phoenix:20240511T220000
DTSTAMP:20260419T160317
CREATED:20240508T000154Z
LAST-MODIFIED:20240508T000241Z
UID:593-1715448600-1715464800@holdmybeerband.com
SUMMARY:Mullineaux Family Fundraiser
DESCRIPTION:The Mullineaux Family lost everything to fire in Oracle and Oracle has been stepping up Big-Time to do whatever it takes to help this young family out.  Items have been arriving at the Ore House daily for weeks and will now host a Cornhole Tournament with All Proceeds Going to the Mullineaux Family!  If you can’t attend this fund-raising event\, consider dropping off a donation of clothing\, money or whatever you may be able to give.  Here are items and sizes that the family is looking for:
URL:https://holdmybeerband.com/event/mullineaux-family-fundraiser/
LOCATION:Ore House Hilltop Tavern\, 1200 N Jefferson Dr.\, Oracle\, Arizona\, 85623\, United States
CATEGORIES:Community Event,Fundraiser,Ore House Hilltop Tavern, Oracle AZ,Saturday Evening Music
ATTACH;FMTTYPE=image/jpeg:https://holdmybeerband.com/wp-content/uploads/2024/05/MullineauxFamilyPoster2.jpg
END:VEVENT
BEGIN:VEVENT
DTSTART;TZID=America/Phoenix:20231021T120000
DTEND;TZID=America/Phoenix:20231021T150000
DTSTAMP:20260419T160317
CREATED:20230929T160754Z
LAST-MODIFIED:20230929T163410Z
UID:457-1697889600-1697900400@holdmybeerband.com
SUMMARY:Cornhole Tournament to Benefit Mountain Vista K-8 School
DESCRIPTION:The Mountain Vista K-8 100th Day Celebration is in need of some community help and Teddy Macoluso is helping by organizing a Cornhole Tournament with All Proceeds going towards the Mountain Vista K-8 100th Day Celebration.  We should let you know that this fund-raising event is NOT being Sponsored by the Mountain Vista K-9 100th Day Celebration\, this is a joint effort in raising funds to help. \n\n\n\nThere is a $40 entry fee to participate in the tournament.  There is no entry fee to join us\, support your favorite bag-tosser and listen to the music of the “Hold my Beer Band”.  They will be providing the tunes from Noon to three with Rocky Martinez spinning digital tunes as well.  What a great cause to support! \n\n\n\nWe are looking forward to seeing you there!
URL:https://holdmybeerband.com/event/cornhole-tournament-to-benefit-mountain-vista-k-8-school/
LOCATION:Ore House Hilltop Tavern\, 1200 N Jefferson Dr.\, Oracle\, Arizona\, 85623\, United States
CATEGORIES:Community Event,Fundraiser
ATTACH;FMTTYPE=image/jpeg:https://holdmybeerband.com/wp-content/uploads/2023/09/Cornhole-Fundraiser-Ore-House_10-2023.jpg
END:VEVENT
BEGIN:VEVENT
DTSTART;TZID=America/Phoenix:20230916T160000
DTEND;TZID=America/Phoenix:20230916T180000
DTSTAMP:20260419T160317
CREATED:20230823T211502Z
LAST-MODIFIED:20230823T214040Z
UID:401-1694880000-1694887200@holdmybeerband.com
SUMMARY:Mammoth Fiesta\, Blessed Sacrament Catholic Parish
DESCRIPTION:The Annual Blessed Sacrament Catholic Parish in Mammoth Arizona announced their Fiesta where the entire family can enjoy games\, food\, beverages\, live music and dancing.  This fun\, family style event helps to raise monies for the Catholic Parish in Mammoth.  We were fortunate to be asked to play one of our first gigs as a trio\, after forming several months prior.  What an enjoyable time where the sound of laughter\, hearty conversation and music can be heard all across town.  We hope to see you at the Fiesta.  Bring your appetites and some funds to purchase food & drink while being serenaded all day.  We kick things off at 4 in the afternoon.  The Fiesta will keep things moving with a DJ for the rest of the evening.  These folks are serious about their Fiesta as it will continue until Midnight!  We hope to see you there!
URL:https://holdmybeerband.com/event/mammoth-fiesta-blessed-sacrament-catholic-parish/
LOCATION:Blessed Sacrament Catholic Parish\, Mammoth\, 122 W Church Dr\, Mammoth\, Arizona\, 85618\, United States
CATEGORIES:Community Event,Fiesta!,Fundraiser
ATTACH;FMTTYPE=image/jpeg:https://holdmybeerband.com/wp-content/uploads/2023/08/2023-09-16-MammothFiestaPoster.jpg
END:VEVENT
BEGIN:VEVENT
DTSTART;TZID=America/Phoenix:20230701T170000
DTEND;TZID=America/Phoenix:20230701T220000
DTSTAMP:20260419T160317
CREATED:20230621T161714Z
LAST-MODIFIED:20230621T162237Z
UID:366-1688230800-1688248800@holdmybeerband.com
SUMMARY:Oracle Music Festival
DESCRIPTION:The Oracle Music Festival is hosted by Rancho Robles and benefits OWN Oracle\, the Oracle Women’s Network.  The Hold my Beer Band begins playing at 6 pm\, but we urge you to show up early and help to make this event a success!  Your $20 event ticket includes a hotdog or hamburger and non-alcoholic beverages.  Kids 10 & under – $10.  Kids 3 and under – FREE admission\, (no food). \n\n\n\nEnjoy the Beer Garden and make sure you bring your own chairs!  There is also a kids corner featuring games for the little ones. \n\n\n\nHelp support the Women’s Network in Oracle by purchasing a ticket and join us in what we hope will become an annual event. \n\n\n\nMusical Lineup & Performance Times: \n\n\n\nMother Cody from 5-6 \n\n\n\nHold my Beer Band from 6-7 \n\n\n\nStephen Budd & Friend from 7-8 \n\n\n\nLast Dance from 8-9:50 \n\n\n\nClick button below to Purchase Adult Event Tickets \n\n\n\n\nPurchase Adult Tickets\n\n\n\n\nClick to Purchase Kids Event Tickets \n\n\n\n\nPurchase Kids Tickets\n\n\n\n\nYou can also purchase tickets at the Oracle Visitors Center.
URL:https://holdmybeerband.com/event/oracle-music-festival/
LOCATION:El Rancho Robles\, 1170 N Rancho Robles Rd\, Oracle\, Arizona\, 85623\, United States
CATEGORIES:Community Event,Fundraiser
ATTACH;FMTTYPE=image/jpeg:https://holdmybeerband.com/wp-content/uploads/2023/06/2023-07-01_Oracle-Music-Festival_OWN-Rancho-Robles.jpg
ORGANIZER;CN="Oracle Women&#8217%3Bs Network":MAILTO:ownoracle@gmail.com
END:VEVENT
BEGIN:VEVENT
DTSTART;TZID=America/Phoenix:20230429T113000
DTEND;TZID=America/Phoenix:20230429T230000
DTSTAMP:20260419T160317
CREATED:20230204T160140Z
LAST-MODIFIED:20230425T170922Z
UID:263-1682767800-1682809200@holdmybeerband.com
SUMMARY:Fiesta de la Primavera in San Manuel
DESCRIPTION:Join us at this annual community event with all proceeds benefiting the Saint Bartholomew Catholic Church. \n\n\n\nThere will be Arts & Crafts\, a Bake Sale & Cake Walk\, as well as a Wine Walk!  Gift Baskets\, Raffles\, Kids Games and Food Booths! \n\n\n\nEvent Schedule: \n\n\n\n\nMass at 11 am\n\n\n\nCrowning of the Queen at Noon\n\n\n\nDJ “el Mariachi” Jose Matin Marquez\n\n\n\nHold my Beer Band from 1:30 – 3:30\n\n\n\nSonia\n\n\n\nDJ “el Mariachi” Jose Matin Marquez until 11pm
URL:https://holdmybeerband.com/event/fiesta-in-san-manuel/
LOCATION:Saint Bartholomew Catholic Church\, 609 W Park Place\, San Manuel\, Arizona\, 85631\, United States
CATEGORIES:Community Event,Fiesta!,Fundraiser,Special Event
ATTACH;FMTTYPE=image/jpeg:https://holdmybeerband.com/wp-content/uploads/2023/02/2023-04-29_San-Manuel-Fiesta_St-Barts-Catholic-Church-scaled-e1682442249841.jpg
END:VEVENT
END:VCALENDAR