BEGIN:VCALENDAR
VERSION:2.0
PRODID:-//the Hold My Beer Band - ECPv6.15.20//NONSGML v1.0//EN
CALSCALE:GREGORIAN
METHOD:PUBLISH
X-WR-CALNAME:the Hold My Beer Band
X-ORIGINAL-URL:https://holdmybeerband.com
X-WR-CALDESC:Events for the Hold My Beer Band
REFRESH-INTERVAL;VALUE=DURATION:PT1H
X-Robots-Tag:noindex
X-PUBLISHED-TTL:PT1H
BEGIN:VTIMEZONE
TZID:America/Phoenix
BEGIN:STANDARD
TZOFFSETFROM:-0700
TZOFFSETTO:-0700
TZNAME:MST
DTSTART:20240101T000000
END:STANDARD
END:VTIMEZONE
BEGIN:VEVENT
DTSTART;TZID=America/Phoenix:20250419T140000
DTEND;TZID=America/Phoenix:20250419T180000
DTSTAMP:20260419T112736
CREATED:20241114T135857Z
LAST-MODIFIED:20250411T181509Z
UID:739-1745071200-1745085600@holdmybeerband.com
SUMMARY:10-12 Lounge\, Clarkdale Az
DESCRIPTION:The 10-12 Lounge is not difficult to find in the historic town of Clarkdale Az. Once you walk into this comfortable lounge\, you’ll notice a relaxed atmosphere with a few tv’s for sports and such and a great sound system when there is no interest in sports & stuff. If you visit when they feature music\, which is every weekend and more\, you will most likely see a crowd of music and dance aficionados. People love their music and really enjoy dancing. It’s our privilege to continue to be booked here for a Saturday afternoon. We hope to see you there!
URL:https://holdmybeerband.com/event/10-12-lounge-clarkdale-az-5/
LOCATION:10-12 Lounge\, 910 Main St\, Clarkdale\, Arizona\, 86324\, United States
CATEGORIES:10-12 Lounge, Clarkdale AZ,Bars & Lounges
ATTACH;FMTTYPE=image/jpeg:https://holdmybeerband.com/wp-content/uploads/2024/03/10-12-Lounge_Clarkdale.jpg
END:VEVENT
END:VCALENDAR