BEGIN:VCALENDAR
VERSION:2.0
PRODID:-//the Hold My Beer Band - ECPv6.15.20//NONSGML v1.0//EN
CALSCALE:GREGORIAN
METHOD:PUBLISH
X-ORIGINAL-URL:https://holdmybeerband.com
X-WR-CALDESC:Events for the Hold My Beer Band
REFRESH-INTERVAL;VALUE=DURATION:PT1H
X-Robots-Tag:noindex
X-PUBLISHED-TTL:PT1H
BEGIN:VTIMEZONE
TZID:America/Phoenix
BEGIN:STANDARD
TZOFFSETFROM:-0700
TZOFFSETTO:-0700
TZNAME:MST
DTSTART:20220101T000000
END:STANDARD
END:VTIMEZONE
BEGIN:VEVENT
DTSTART;TZID=America/Phoenix:20231014T140000
DTEND;TZID=America/Phoenix:20231014T180000
DTSTAMP:20260420T182055
CREATED:20230908T171734Z
LAST-MODIFIED:20230908T173004Z
UID:416-1697292000-1697306400@holdmybeerband.com
SUMMARY:10-12 Lounge\, Clarkdale AZ
DESCRIPTION:We are heading back to the Verde Valley for some October fun!  The 10-12 Lounge is a Landmark in Clarkdale and the owner likes our music!  It may be because the town of Clarkdale; adjacent to Cottonwood\, and nine miles down the hill from Jerome\, have great fans of live music.  These folks are regulars when it comes to supporting live music.  Without them\, and you of course\, we wouldn’t be able to do what we Love doing!  You know\, playing alternative country\, swing\, boogie and some rock standards. \n\n\n\nWe hope we see you for a relaxing Saturday afternoon at the 10-12 Lounge in Clarkdale Az.
URL:https://holdmybeerband.com/event/10-12-lounge-clarkdale-az-2/
LOCATION:10-12 Lounge\, 910 Main St\, Clarkdale\, Arizona\, 86324\, United States
CATEGORIES:10-12 Lounge, Clarkdale AZ,Bars & Lounges
ATTACH;FMTTYPE=image/jpeg:https://holdmybeerband.com/wp-content/uploads/2022/12/10-12-sign1.jpg
END:VEVENT
END:VCALENDAR